BEGIN:VCALENDAR
VERSION:2.0
PRODID:-//Greater Clark Ed Foundation - ECPv6.15.20//NONSGML v1.0//EN
CALSCALE:GREGORIAN
METHOD:PUBLISH
X-WR-CALNAME:Greater Clark Ed Foundation
X-ORIGINAL-URL:https://gccsfoundation.com
X-WR-CALDESC:Events for Greater Clark Ed Foundation
REFRESH-INTERVAL;VALUE=DURATION:PT1H
X-Robots-Tag:noindex
X-PUBLISHED-TTL:PT1H
BEGIN:VTIMEZONE
TZID:UTC
BEGIN:STANDARD
TZOFFSETFROM:+0000
TZOFFSETTO:+0000
TZNAME:UTC
DTSTART:20240101T000000
END:STANDARD
END:VTIMEZONE
BEGIN:VEVENT
DTSTART;TZID=UTC:20251022T180000
DTEND;TZID=UTC:20251022T200000
DTSTAMP:20260424T143724
CREATED:20250828T173149Z
LAST-MODIFIED:20250828T173149Z
UID:867-1761156000-1761163200@gccsfoundation.com
SUMMARY:Women for Greater 2025
DESCRIPTION:
URL:https://gccsfoundation.com/event/women-for-greater-2025/
CATEGORIES:Women for Greater
END:VEVENT
END:VCALENDAR