BEGIN:VCALENDAR
VERSION:2.0
PRODID:-//Greater Clark Ed Foundation - ECPv6.15.20//NONSGML v1.0//EN
CALSCALE:GREGORIAN
METHOD:PUBLISH
X-WR-CALNAME:Greater Clark Ed Foundation
X-ORIGINAL-URL:https://gccsfoundation.com
X-WR-CALDESC:Events for Greater Clark Ed Foundation
REFRESH-INTERVAL;VALUE=DURATION:PT1H
X-Robots-Tag:noindex
X-PUBLISHED-TTL:PT1H
BEGIN:VTIMEZONE
TZID:UTC
BEGIN:STANDARD
TZOFFSETFROM:+0000
TZOFFSETTO:+0000
TZNAME:UTC
DTSTART:20250101T000000
END:STANDARD
END:VTIMEZONE
BEGIN:VEVENT
DTSTART;VALUE=DATE:20260205
DTEND;VALUE=DATE:20260206
DTSTAMP:20260422T123320
CREATED:20260127T213813Z
LAST-MODIFIED:20260130T032851Z
UID:420-1770249600-1770335999@gccsfoundation.com
SUMMARY:Give for Greater
DESCRIPTION:Give for Greater Day supports our educational initiatives for all GCCS students\, staff\, and schools.  Within this 24-hour giving window\, our goal is to increase our individual and alumni giving so that we can continue to raise additional funds to support our many initiatives. \nGIVE LINK
URL:https://gccsfoundation.com/event/give-for-greater/
CATEGORIES:Give for Greater
ATTACH;FMTTYPE=image/jpeg:https://gccsfoundation.com/wp-content/uploads/2024/07/Give-for-Greater-towns.jpg
ORGANIZER;CN="Brittany Morrison":MAILTO:bmorrison@gccschools.com
END:VEVENT
END:VCALENDAR